BEGIN:VCALENDAR
PRODID:-//SINGPromos.com//NONSGML v1.0//EN
VERSION:2.0
CALSCALE:GREGORIAN
METHOD:PUBLISH
X-WR-CALNAME:SINGPromos.com
X-ORIGINAL-URL:https://singpromos.com
X-WR-CALDESC:Events for SINGPromos.com
BEGIN:VEVENT
DTSTART:20240603T000000
DTEND:20240607T235900
DTSTAMP:20260420T232625
CREATED:20240602T110535
LAST-MODIFIED:20240609T114923
UID:278881@https://singpromos.com
SUMMARY:KFC Singapore Has 1-for-1 Original Recipe Twister, Smokey Hot Zinger and 2pcs Chicken from 3 - 7 June 2024
DESCRIPTION:Indulge in KFC's exclusive 1-for-1 offers across a selection of favourites. For more information, visit [ https://singpromos.com/dining-restaurants-food/kfc-singapore-has-1-for-1-original-recipe-twister-smokey-hot-zinger-and-2pcs-chicken-from-3-7-june-2024-278881/ ]. 
LOCATION:
URL:https://singpromos.com/dining-restaurants-food/kfc-singapore-has-1-for-1-original-recipe-twister-smokey-hot-zinger-and-2pcs-chicken-from-3-7-june-2024-278881/
END:VEVENT
END:VCALENDAR