BEGIN:VCALENDAR
PRODID:-//SINGPromos.com//NONSGML v1.0//EN
VERSION:2.0
CALSCALE:GREGORIAN
METHOD:PUBLISH
X-WR-CALNAME:SINGPromos.com
X-ORIGINAL-URL:https://singpromos.com
X-WR-CALDESC:Events for SINGPromos.com
BEGIN:VEVENT
DTSTART:20240601T000000
DTEND:20240630T235900
DTSTAMP:20260420T214057
CREATED:20240601T020943
LAST-MODIFIED:20240702T151830
UID:278932@https://singpromos.com
SUMMARY:Standard Chartered SG Offers 2.90% p.a. 6-mth Time Deposit Rates for June 2024
DESCRIPTION:Maximise returns with Standard Chartered's Time Deposit offer. For more information, visit [ https://singpromos.com/banks-credit-cards/standard-chartered-sg-offers-2-90-p-a-6-mth-time-deposit-rates-for-june-2024-278932/ ]. 
LOCATION:
URL:https://singpromos.com/banks-credit-cards/standard-chartered-sg-offers-2-90-p-a-6-mth-time-deposit-rates-for-june-2024-278932/
END:VEVENT
END:VCALENDAR