BEGIN:VCALENDAR
PRODID:-//SINGPromos.com//NONSGML v1.0//EN
VERSION:2.0
CALSCALE:GREGORIAN
METHOD:PUBLISH
X-WR-CALNAME:SINGPromos.com
X-ORIGINAL-URL:https://singpromos.com
X-WR-CALDESC:Events for SINGPromos.com
BEGIN:VEVENT
DTSTART:20240601T000000
DTEND:20240630T235900
DTSTAMP:20260420T232626
CREATED:20240601T193822
LAST-MODIFIED:20240701T181930
UID:278967@https://singpromos.com
SUMMARY:Foodpanda Singapore June 2024 promo codes & discounts
DESCRIPTION:Score the Best Deals on Foodpanda. For more information, visit [ https://singpromos.com/dining-restaurants-food/foodpanda-singapore-june-2024-promo-codes-discounts-278967/ ]. 
LOCATION:
URL:https://singpromos.com/dining-restaurants-food/foodpanda-singapore-june-2024-promo-codes-discounts-278967/
END:VEVENT
END:VCALENDAR