BEGIN:VCALENDAR
PRODID:-//SINGPromos.com//NONSGML v1.0//EN
VERSION:2.0
CALSCALE:GREGORIAN
METHOD:PUBLISH
X-WR-CALNAME:SINGPromos.com
X-ORIGINAL-URL:https://singpromos.com
X-WR-CALDESC:Events for SINGPromos.com
BEGIN:VEVENT
DTSTART:20240603T000000
DTEND:20240603T235900
DTSTAMP:20260420T232626
CREATED:20240603T033608
LAST-MODIFIED:20240603T033647
UID:278974@https://singpromos.com
SUMMARY:McDonald's Singapore Has 50% Off Grilled Chicken McWrap® Meal On 3 June 2024
DESCRIPTION:Savour the Grilled Chicken McWrap® Meal at half the price, exclusively this Monday.. For more information, visit [ https://singpromos.com/dining-restaurants-food/mcdonalds-singapore-has-50-off-grilled-chicken-mcwrap-meal-on-3-june-2024-278974/ ]. 
LOCATION:
URL:https://singpromos.com/dining-restaurants-food/mcdonalds-singapore-has-50-off-grilled-chicken-mcwrap-meal-on-3-june-2024-278974/
END:VEVENT
END:VCALENDAR