BEGIN:VCALENDAR
PRODID:-//SINGPromos.com//NONSGML v1.0//EN
VERSION:2.0
CALSCALE:GREGORIAN
METHOD:PUBLISH
X-WR-CALNAME:SINGPromos.com
X-ORIGINAL-URL:https://singpromos.com
X-WR-CALDESC:Events for SINGPromos.com
BEGIN:VEVENT
DTSTART:20240603T000000
DTEND:20240619T235900
DTSTAMP:20260420T232625
CREATED:20240603T035041
LAST-MODIFIED:20240618T164449
UID:278978@https://singpromos.com
SUMMARY:Crocs Singapore Online Sale Offers Up to 40% Off Select Styles till 19 June 2024
DESCRIPTION:Step into Summer with Crocs. For more information, visit [ https://singpromos.com/footwear/crocs-singapore-online-sale-offers-up-to-40-off-select-styles-till-18-june-2024-278978/ ]. 
LOCATION:
URL:https://singpromos.com/footwear/crocs-singapore-online-sale-offers-up-to-40-off-select-styles-till-18-june-2024-278978/
END:VEVENT
END:VCALENDAR