BEGIN:VCALENDAR
PRODID:-//SINGPromos.com//NONSGML v1.0//EN
VERSION:2.0
CALSCALE:GREGORIAN
METHOD:PUBLISH
X-WR-CALNAME:SINGPromos.com
X-ORIGINAL-URL:https://singpromos.com
X-WR-CALDESC:Events for SINGPromos.com
BEGIN:VEVENT
DTSTART:20240619T000000
DTEND:20240620T235900
DTSTAMP:20260420T232626
CREATED:20240619T133014
LAST-MODIFIED:20240619T133405
UID:279323@https://singpromos.com
SUMMARY:A&W Singapore Celebrates Birthday with 1-for-1 Root Beer Promotion till 20 June 2024
DESCRIPTION:Offer applies to ala carte orders only.. For more information, visit [ https://singpromos.com/dining-restaurants-food/aw-singapore-celebrates-birthday-with-1-for-1-root-beer-promotion-till-20-june-2024-279323/ ]. 
LOCATION:
URL:https://singpromos.com/dining-restaurants-food/aw-singapore-celebrates-birthday-with-1-for-1-root-beer-promotion-till-20-june-2024-279323/
END:VEVENT
END:VCALENDAR