BEGIN:VCALENDAR
PRODID:-//SINGPromos.com//NONSGML v1.0//EN
VERSION:2.0
CALSCALE:GREGORIAN
METHOD:PUBLISH
X-WR-CALNAME:SINGPromos.com
X-ORIGINAL-URL:https://singpromos.com
X-WR-CALDESC:Events for SINGPromos.com
BEGIN:VEVENT
DTSTART:20240619T000000
DTEND:20240626T235900
DTSTAMP:20260420T232628
CREATED:20240619T134657
LAST-MODIFIED:20240620T164303
UID:279330@https://singpromos.com
SUMMARY:HDB Launches 6,938 Flats in June 2024 BTO Exercise, apply by 26 June 2024
DESCRIPTION:Eight new BTO projects in different estates, one of which is the new Chencharu housing area in Yishun. For more information, visit [ https://singpromos.com/housing/hdb-launches-6938-flats-in-june-2024-bto-exercise-apply-by-26-june-2024-279330/ ]. 
LOCATION:
URL:https://singpromos.com/housing/hdb-launches-6938-flats-in-june-2024-bto-exercise-apply-by-26-june-2024-279330/
END:VEVENT
END:VCALENDAR