BEGIN:VCALENDAR
PRODID:-//SINGPromos.com//NONSGML v1.0//EN
VERSION:2.0
CALSCALE:GREGORIAN
METHOD:PUBLISH
X-WR-CALNAME:SINGPromos.com
X-ORIGINAL-URL:https://singpromos.com
X-WR-CALDESC:Events for SINGPromos.com
BEGIN:VEVENT
DTSTART:20240620T000000
DTEND:20240707T235900
DTSTAMP:20260419T232156
CREATED:20240620T015414
LAST-MODIFIED:20240629T003920
UID:279362@https://singpromos.com
SUMMARY:GOG.com Summer Sale Now On Till 7 July With Over 6000 Deals
DESCRIPTION:Flash deals, giveaways, incredible new releases and more. For more information, visit [ https://singpromos.com/video-games/gog-com-summer-sale-now-on-till-7-july-with-over-6000-deals-279362/ ]. 
LOCATION:
URL:https://singpromos.com/video-games/gog-com-summer-sale-now-on-till-7-july-with-over-6000-deals-279362/
END:VEVENT
END:VCALENDAR