BEGIN:VCALENDAR
PRODID:-//SINGPromos.com//NONSGML v1.0//EN
VERSION:2.0
CALSCALE:GREGORIAN
METHOD:PUBLISH
X-WR-CALNAME:SINGPromos.com
X-ORIGINAL-URL:https://singpromos.com
X-WR-CALDESC:Events for SINGPromos.com
BEGIN:VEVENT
DTSTART:20240620T000000
DTEND:20240626T235900
DTSTAMP:20260420T232626
CREATED:20240620T122852
LAST-MODIFIED:20240620T123056
UID:279370@https://singpromos.com
SUMMARY:Fairprice offers Ben & Jerry's ice cream tubs at S$9.07 each when you buy three till 26 June 2024
DESCRIPTION:Ben & Jerry's fans, save on your favourite ice cream with this deal. For more information, visit [ https://singpromos.com/dining-restaurants-food/fairprice-offers-ben-jerrys-ice-cream-tubs-at-s9-07-each-when-you-buy-three-till-26-june-2024-279370/ ]. 
LOCATION:
URL:https://singpromos.com/dining-restaurants-food/fairprice-offers-ben-jerrys-ice-cream-tubs-at-s9-07-each-when-you-buy-three-till-26-june-2024-279370/
END:VEVENT
END:VCALENDAR