BEGIN:VCALENDAR
PRODID:-//SINGPromos.com//NONSGML v1.0//EN
VERSION:2.0
CALSCALE:GREGORIAN
METHOD:PUBLISH
X-WR-CALNAME:SINGPromos.com
X-ORIGINAL-URL:https://singpromos.com
X-WR-CALDESC:Events for SINGPromos.com
BEGIN:VEVENT
DTSTART:20120321T000000
DTEND:20120325T235900
DTSTAMP:20260422T035048
CREATED:20120320T212527
LAST-MODIFIED:20120320T212527
UID:27951@https://singpromos.com
SUMMARY:Aibi Healthy Lifestyle Roadshow @ VivoCity 21 - 25 Mar 2012
DESCRIPTION:Aibi will be having a roadshow at VivoCity Level 1 (Centre Court B Atrium) from 21 March to 25 March 2012, 10am to 10pm with special offers on its gymnastic products. For more information, visit [ https://singpromos.com/body-fitness-gym/aibi-healthy-lifestyle-roadshow-vivocity-21-25-mar-2012-27951/ ]. 
LOCATION:
URL:https://singpromos.com/body-fitness-gym/aibi-healthy-lifestyle-roadshow-vivocity-21-25-mar-2012-27951/
END:VEVENT
END:VCALENDAR