BEGIN:VCALENDAR
PRODID:-//SINGPromos.com//NONSGML v1.0//EN
VERSION:2.0
CALSCALE:GREGORIAN
METHOD:PUBLISH
X-WR-CALNAME:SINGPromos.com
X-ORIGINAL-URL:https://singpromos.com
X-WR-CALDESC:Events for SINGPromos.com
BEGIN:VEVENT
DTSTART:20240629T000000
DTEND:20240713T235900
DTSTAMP:20260420T200229
CREATED:20240628T035303
LAST-MODIFIED:20240627T235402
UID:279580@https://singpromos.com
SUMMARY:National Day Parade 2024 Preview 1 Road Closures On 29 Jun, 6 Jul and 13 Jul
DESCRIPTION:To facilitate the events, the following roads and lanes will be closed to vehicular traffic during the stipulated periods. For more information, visit [ https://singpromos.com/motor-vehicles/national-day-parade-2024-preview-1-road-closures-on-29-jun-6-jul-and-13-jul-279580/ ]. 
LOCATION:
URL:https://singpromos.com/motor-vehicles/national-day-parade-2024-preview-1-road-closures-on-29-jun-6-jul-and-13-jul-279580/
END:VEVENT
END:VCALENDAR