BEGIN:VCALENDAR
PRODID:-//SINGPromos.com//NONSGML v1.0//EN
VERSION:2.0
CALSCALE:GREGORIAN
METHOD:PUBLISH
X-WR-CALNAME:SINGPromos.com
X-ORIGINAL-URL:https://singpromos.com
X-WR-CALDESC:Events for SINGPromos.com
BEGIN:VEVENT
DTSTART:20240701T000000
DTEND:20240701T235900
DTSTAMP:20260420T035746
CREATED:20240701T020321
LAST-MODIFIED:20240701T012036
UID:279633@https://singpromos.com
SUMMARY:IKEA Singapore Celebrates Youth Day with Discounts on Swedish Delicacies on 1 July 2024
DESCRIPTION:Enjoy these classic Swedish dishes at a low price.. For more information, visit [ https://singpromos.com/dining-restaurants-food/ikea-singapore-celebrates-youth-day-with-discounts-on-swedish-delicacies-on-1-july-2024-279633/ ]. 
LOCATION:
URL:https://singpromos.com/dining-restaurants-food/ikea-singapore-celebrates-youth-day-with-discounts-on-swedish-delicacies-on-1-july-2024-279633/
END:VEVENT
END:VCALENDAR