BEGIN:VCALENDAR
PRODID:-//SINGPromos.com//NONSGML v1.0//EN
VERSION:2.0
CALSCALE:GREGORIAN
METHOD:PUBLISH
X-WR-CALNAME:SINGPromos.com
X-ORIGINAL-URL:https://singpromos.com
X-WR-CALDESC:Events for SINGPromos.com
BEGIN:VEVENT
DTSTART:20240705T000000
DTEND:20240726T235900
DTSTAMP:20260420T035746
CREATED:20240704T152102
LAST-MODIFIED:20240701T012709
UID:279640@https://singpromos.com
SUMMARY:$2/2pcs Fried Chicken Wings Available at IKEA Singapore Restaurants Every Friday till 26 July 2024
DESCRIPTION:Enjoy crispy chicken wings at IKEA Singapore for just $1 each on Fridays in July. For more information, visit [ https://singpromos.com/dining-restaurants-food/2-2pcs-fried-chicken-wings-available-at-ikea-singapore-restaurants-every-friday-till-26-july-2024-279640/ ]. 
LOCATION:
URL:https://singpromos.com/dining-restaurants-food/2-2pcs-fried-chicken-wings-available-at-ikea-singapore-restaurants-every-friday-till-26-july-2024-279640/
END:VEVENT
END:VCALENDAR