BEGIN:VCALENDAR
PRODID:-//SINGPromos.com//NONSGML v1.0//EN
VERSION:2.0
CALSCALE:GREGORIAN
METHOD:PUBLISH
X-WR-CALNAME:SINGPromos.com
X-ORIGINAL-URL:https://singpromos.com
X-WR-CALDESC:Events for SINGPromos.com
BEGIN:VEVENT
DTSTART:20240704T000000
DTEND:20240707T235900
DTSTAMP:20260422T082231
CREATED:20240704T000340
LAST-MODIFIED:20240704T000619
UID:279782@https://singpromos.com
SUMMARY:Extended! Giant and Cold Storage offering Return Vouchers when you spend with CDC vouchers in-stores till 7 July 2024
DESCRIPTION:No min spend required to use the return voucher. For more information, visit [ https://singpromos.com/dining-restaurants-food/extended-giant-and-cold-storage-offering-return-vouchers-when-you-spend-with-cdc-vouchers-in-stores-till-7-july-2024-279782/ ]. 
LOCATION:
URL:https://singpromos.com/dining-restaurants-food/extended-giant-and-cold-storage-offering-return-vouchers-when-you-spend-with-cdc-vouchers-in-stores-till-7-july-2024-279782/
END:VEVENT
END:VCALENDAR