BEGIN:VCALENDAR
PRODID:-//SINGPromos.com//NONSGML v1.0//EN
VERSION:2.0
CALSCALE:GREGORIAN
METHOD:PUBLISH
X-WR-CALNAME:SINGPromos.com
X-ORIGINAL-URL:https://singpromos.com
X-WR-CALDESC:Events for SINGPromos.com
BEGIN:VEVENT
DTSTART:20240723T000000
DTEND:20240723T235900
DTSTAMP:20260420T172708
CREATED:20240722T152307
LAST-MODIFIED:20240721T223804
UID:280281@https://singpromos.com
SUMMARY:Dunkin' S'pore Celebrates with $1.50 Donuts at Waterway Point and HarbourFront Centre on 23 July 2024
DESCRIPTION:Savour these delicious deals at selected outlets across Singapore.. For more information, visit [ https://singpromos.com/dining-restaurants-food/dunkin-spore-celebrates-with-1-50-donuts-at-waterway-point-and-harbourfront-centre-on-23-july-2024-280281/ ]. 
LOCATION:
URL:https://singpromos.com/dining-restaurants-food/dunkin-spore-celebrates-with-1-50-donuts-at-waterway-point-and-harbourfront-centre-on-23-july-2024-280281/
END:VEVENT
END:VCALENDAR