BEGIN:VCALENDAR
PRODID:-//SINGPromos.com//NONSGML v1.0//EN
VERSION:2.0
CALSCALE:GREGORIAN
METHOD:PUBLISH
X-WR-CALNAME:SINGPromos.com
X-ORIGINAL-URL:https://singpromos.com
X-WR-CALDESC:Events for SINGPromos.com
BEGIN:VEVENT
DTSTART:20110121T000000
DTEND:20110206T235900
DTSTAMP:20260422T075640
CREATED:20110122T032458
LAST-MODIFIED:20110122T032458
UID:2808@https://singpromos.com
SUMMARY:Panasonic Kitchenware Cooking Sale 21 Jan - 6 Feb 2011
DESCRIPTION:Be rewarded with great gift bundles to usher a great start to a prosperus new year. Items featured are microwave ovens, rice cookers, presure cooker, juicers, blenders, thermo pots and other small appliances.. For more information, visit [ https://singpromos.com/kitchenware-cookware/panasonic-kitchenware-cooking-sale-21-jan-6-feb-2011-2808/ ]. 
LOCATION:
URL:https://singpromos.com/kitchenware-cookware/panasonic-kitchenware-cooking-sale-21-jan-6-feb-2011-2808/
END:VEVENT
END:VCALENDAR