BEGIN:VCALENDAR
PRODID:-//SINGPromos.com//NONSGML v1.0//EN
VERSION:2.0
CALSCALE:GREGORIAN
METHOD:PUBLISH
X-WR-CALNAME:SINGPromos.com
X-ORIGINAL-URL:https://singpromos.com
X-WR-CALDESC:Events for SINGPromos.com
BEGIN:VEVENT
DTSTART:20240808T000000
DTEND:20240811T235900
DTSTAMP:20260422T212545
CREATED:20240808T085455
LAST-MODIFIED:20240807T191153
UID:280904@https://singpromos.com
SUMMARY:BHG offering 20% OFF reg-priced items and 10% OFF sale items till 11 Aug 2024
DESCRIPTION:4 days only. For more information, visit [ https://singpromos.com/department-stores/bhg-offering-20-off-reg-priced-items-and-10-off-sale-items-till-11-aug-2024-280904/ ]. 
LOCATION:
URL:https://singpromos.com/department-stores/bhg-offering-20-off-reg-priced-items-and-10-off-sale-items-till-11-aug-2024-280904/
END:VEVENT
END:VCALENDAR