BEGIN:VCALENDAR
PRODID:-//SINGPromos.com//NONSGML v1.0//EN
VERSION:2.0
CALSCALE:GREGORIAN
METHOD:PUBLISH
X-WR-CALNAME:SINGPromos.com
X-ORIGINAL-URL:https://singpromos.com
X-WR-CALDESC:Events for SINGPromos.com
BEGIN:VEVENT
DTSTART:20240701T000000
DTEND:20241130T235900
DTSTAMP:20260420T172859
CREATED:20240711T140956
LAST-MODIFIED:20240811T141350
UID:281053@https://singpromos.com
SUMMARY:Dunkin' S'pore Exclusive National Day deals Save Up To $3.10 till 30 Nov 2024
DESCRIPTION:Celebrate National Day, the Dunkin' way. For more information, visit [ https://singpromos.com/dining-restaurants-food/dunkin-spore-exclusive-national-day-deals-save-up-to-3-10-till-30-nov-2024-281053/ ]. 
LOCATION:
URL:https://singpromos.com/dining-restaurants-food/dunkin-spore-exclusive-national-day-deals-save-up-to-3-10-till-30-nov-2024-281053/
END:VEVENT
END:VCALENDAR