BEGIN:VCALENDAR
PRODID:-//SINGPromos.com//NONSGML v1.0//EN
VERSION:2.0
CALSCALE:GREGORIAN
METHOD:PUBLISH
X-WR-CALNAME:SINGPromos.com
X-ORIGINAL-URL:https://singpromos.com
X-WR-CALDESC:Events for SINGPromos.com
BEGIN:VEVENT
DTSTART:20240902T000000
DTEND:20240906T235900
DTSTAMP:20260420T172826
CREATED:20240902T021236
LAST-MODIFIED:20240902T025956
UID:281633@https://singpromos.com
SUMMARY:Dunkin' Singapore Has Buy 4, Get 2 Free Promotion till 6th September 2024
DESCRIPTION:Available at all Dunkin' Singapore outlets. For more information, visit [ https://singpromos.com/dining-restaurants-food/dunkin-singapore-has-buy-4-get-2-free-promotion-till-6th-september-2024-281633/ ]. 
LOCATION:
URL:https://singpromos.com/dining-restaurants-food/dunkin-singapore-has-buy-4-get-2-free-promotion-till-6th-september-2024-281633/
END:VEVENT
END:VCALENDAR