BEGIN:VCALENDAR
PRODID:-//SINGPromos.com//NONSGML v1.0//EN
VERSION:2.0
CALSCALE:GREGORIAN
METHOD:PUBLISH
X-WR-CALNAME:SINGPromos.com
X-ORIGINAL-URL:https://singpromos.com
X-WR-CALDESC:Events for SINGPromos.com
BEGIN:VEVENT
DTSTART:20240902T000000
DTEND:20240906T235900
DTSTAMP:20260420T035746
CREATED:20240901T155816
LAST-MODIFIED:20240902T193436
UID:281641@https://singpromos.com
SUMMARY:IKEA Singapore Has "Kids Eat Free" Promotion From 2 - 6 Sep 2024
DESCRIPTION:Delightful dining deal for families. For more information, visit [ https://singpromos.com/dining-restaurants-food/ikea-singapore-has-kids-eat-free-promotion-from-2-6-sep-2024-281641/ ]. 
LOCATION:
URL:https://singpromos.com/dining-restaurants-food/ikea-singapore-has-kids-eat-free-promotion-from-2-6-sep-2024-281641/
END:VEVENT
END:VCALENDAR