BEGIN:VCALENDAR
PRODID:-//SINGPromos.com//NONSGML v1.0//EN
VERSION:2.0
CALSCALE:GREGORIAN
METHOD:PUBLISH
X-WR-CALNAME:SINGPromos.com
X-ORIGINAL-URL:https://singpromos.com
X-WR-CALDESC:Events for SINGPromos.com
BEGIN:VEVENT
DTSTART:20240909T000000
DTEND:20240913T235900
DTSTAMP:20260420T172827
CREATED:20240909T021946
LAST-MODIFIED:20240907T143906
UID:281964@https://singpromos.com
SUMMARY:Dunkin' Singapore Offers Sweet Buy 4, Get 2 Free Donut Deal Till 13th September 2024
DESCRIPTION:Grab this chance to enjoy free donuts and discounted beverages at all Dunkin' outlets across Singapore. For more information, visit [ https://singpromos.com/dining-restaurants-food/dunkin-singapore-offers-sweet-buy-4-get-2-free-donut-deal-till-13th-september-2024-281964/ ]. 
LOCATION:
URL:https://singpromos.com/dining-restaurants-food/dunkin-singapore-offers-sweet-buy-4-get-2-free-donut-deal-till-13th-september-2024-281964/
END:VEVENT
END:VCALENDAR