BEGIN:VCALENDAR
PRODID:-//SINGPromos.com//NONSGML v1.0//EN
VERSION:2.0
CALSCALE:GREGORIAN
METHOD:PUBLISH
X-WR-CALNAME:SINGPromos.com
X-ORIGINAL-URL:https://singpromos.com
X-WR-CALDESC:Events for SINGPromos.com
BEGIN:VEVENT
DTSTART:20240916T000000
DTEND:20240916T235900
DTSTAMP:20260422T082239
CREATED:20240916T004000
LAST-MODIFIED:20240916T004000
UID:282176@https://singpromos.com
SUMMARY:McDonald's Singapore Has 50% Off Grilled Chicken McWrap® Meal for One Day Only on 16 Sep 2024
DESCRIPTION:Enjoy a 50% discount on the Grilled Chicken McWrap® Meal this Monday, exclusively on the app.. For more information, visit [ https://singpromos.com/dining-restaurants-food/mcdonalds-singapore-has-50-off-grilled-chicken-mcwrap-meal-for-one-day-only-on-16-sep-2024-282176/ ]. 
LOCATION:
URL:https://singpromos.com/dining-restaurants-food/mcdonalds-singapore-has-50-off-grilled-chicken-mcwrap-meal-for-one-day-only-on-16-sep-2024-282176/
END:VEVENT
END:VCALENDAR