BEGIN:VCALENDAR
PRODID:-//SINGPromos.com//NONSGML v1.0//EN
VERSION:2.0
CALSCALE:GREGORIAN
METHOD:PUBLISH
X-WR-CALNAME:SINGPromos.com
X-ORIGINAL-URL:https://singpromos.com
X-WR-CALDESC:Events for SINGPromos.com
BEGIN:VEVENT
DTSTART:20240926T000000
DTEND:20240930T235900
DTSTAMP:20260422T082308
CREATED:20240925T192235
LAST-MODIFIED:20240925T200343
UID:282332@https://singpromos.com
SUMMARY:MUJI ION Orchard Store Reopening with Special Promotions from 26 - 30 Sep 2024
DESCRIPTION:Enjoy discounts of up to 30% and special price promotions. For more information, visit [ https://singpromos.com/fashion-accessories/muji-ion-orchard-store-reopening-with-special-promotions-from-24-30-sep-2024-282332/ ]. 
LOCATION:238801
URL:https://singpromos.com/fashion-accessories/muji-ion-orchard-store-reopening-with-special-promotions-from-24-30-sep-2024-282332/
END:VEVENT
END:VCALENDAR