BEGIN:VCALENDAR
PRODID:-//SINGPromos.com//NONSGML v1.0//EN
VERSION:2.0
CALSCALE:GREGORIAN
METHOD:PUBLISH
X-WR-CALNAME:SINGPromos.com
X-ORIGINAL-URL:https://singpromos.com
X-WR-CALDESC:Events for SINGPromos.com
BEGIN:VEVENT
DTSTART:20120324T000000
DTEND:20120330T235900
DTSTAMP:20260422T082127
CREATED:20120324T134335
LAST-MODIFIED:20120329T180014
UID:28260@https://singpromos.com
SUMMARY:Nokia Smartphones & Mobile Phones No Contract Price List 24 Mar 2012
DESCRIPTION:Here is Nokia's and TeleChoice's latest promotion price list for some of their Nokia smartphones, including the new Nokia Lumia 800 White. Purchase a Nokia Lumia 800 from TeleChoice and get a free Nokia Purity Stereo Headset by Monster (WH-920).. For more information, visit [ https://singpromos.com/mobile-phones/nokia-smartphones-mobile-phones-no-contract-price-list-24-mar-2012-28260/ ]. 
LOCATION:
URL:https://singpromos.com/mobile-phones/nokia-smartphones-mobile-phones-no-contract-price-list-24-mar-2012-28260/
END:VEVENT
END:VCALENDAR