BEGIN:VCALENDAR
PRODID:-//SINGPromos.com//NONSGML v1.0//EN
VERSION:2.0
CALSCALE:GREGORIAN
METHOD:PUBLISH
X-WR-CALNAME:SINGPromos.com
X-ORIGINAL-URL:https://singpromos.com
X-WR-CALDESC:Events for SINGPromos.com
BEGIN:VEVENT
DTSTART:20241010T000000
DTEND:20241010T235900
DTSTAMP:20260420T155106
CREATED:20241009T153842
LAST-MODIFIED:20241004T122402
UID:282654@https://singpromos.com
SUMMARY:Yakiniku-GO Offers 50% Off Signature Yakiniku-GO Set and Pork Sanshu Mori Set on 10 Oct 2024
DESCRIPTION:Available at all Yakiniku-GO outlets across Singapore for one day only on 10 October 2024.. For more information, visit [ https://singpromos.com/dining-restaurants-food/yakiniku-go-offers-50-off-signature-yakiniku-go-set-and-pork-sanshu-mori-set-on-10-oct-2024-282654/ ]. 
LOCATION:
URL:https://singpromos.com/dining-restaurants-food/yakiniku-go-offers-50-off-signature-yakiniku-go-set-and-pork-sanshu-mori-set-on-10-oct-2024-282654/
END:VEVENT
END:VCALENDAR