BEGIN:VCALENDAR
PRODID:-//SINGPromos.com//NONSGML v1.0//EN
VERSION:2.0
CALSCALE:GREGORIAN
METHOD:PUBLISH
X-WR-CALNAME:SINGPromos.com
X-ORIGINAL-URL:https://singpromos.com
X-WR-CALDESC:Events for SINGPromos.com
BEGIN:VEVENT
DTSTART:20241001T000000
DTEND:20241031T235900
DTSTAMP:20260422T074909
CREATED:20241001T020335
LAST-MODIFIED:20241101T201836
UID:282740@https://singpromos.com
SUMMARY:Foodpanda Singapore October 2024 promo codes & discounts
DESCRIPTION:Score the best deals at Foodpanda. For more information, visit [ https://singpromos.com/dining-restaurants-food/foodpanda-singapore-october-2024-promo-codes-discounts-282740/ ]. 
LOCATION:
URL:https://singpromos.com/dining-restaurants-food/foodpanda-singapore-october-2024-promo-codes-discounts-282740/
END:VEVENT
END:VCALENDAR