BEGIN:VCALENDAR
PRODID:-//SINGPromos.com//NONSGML v1.0//EN
VERSION:2.0
CALSCALE:GREGORIAN
METHOD:PUBLISH
X-WR-CALNAME:SINGPromos.com
X-ORIGINAL-URL:https://singpromos.com
X-WR-CALDESC:Events for SINGPromos.com
BEGIN:VEVENT
DTSTART:20241004T000000
DTEND:20241004T235900
DTSTAMP:20260420T035746
CREATED:20241001T170614
LAST-MODIFIED:20241001T170923
UID:282755@https://singpromos.com
SUMMARY:IKEA Singapore Has "Kids Eat Free" Children's Day Promotion on 4 Oct 2024
DESCRIPTION:Delightful dining deal for families. For more information, visit [ https://singpromos.com/dining-restaurants-food/ikea-singapore-has-kids-eat-free-childrens-day-promotion-on-4-oct-2024-282755/ ]. 
LOCATION:
URL:https://singpromos.com/dining-restaurants-food/ikea-singapore-has-kids-eat-free-childrens-day-promotion-on-4-oct-2024-282755/
END:VEVENT
END:VCALENDAR