BEGIN:VCALENDAR
PRODID:-//SINGPromos.com//NONSGML v1.0//EN
VERSION:2.0
CALSCALE:GREGORIAN
METHOD:PUBLISH
X-WR-CALNAME:SINGPromos.com
X-ORIGINAL-URL:https://singpromos.com
X-WR-CALDESC:Events for SINGPromos.com
BEGIN:VEVENT
DTSTART:20241003T000000
DTEND:20241009T235900
DTSTAMP:20260422T082316
CREATED:20241003T022257
LAST-MODIFIED:20241003T013254
UID:282815@https://singpromos.com
SUMMARY:Cold Storage Singapore Has 3-for-$25 Haagen-Dazs Ice Cream Tubs Promo Till 9 Oct 2024
DESCRIPTION:Available in-store and online for a limited time. For more information, visit [ https://singpromos.com/dining-restaurants-food/cold-storage-singapore-has-3-for-25-haagen-dazs-ice-cream-tubs-promo-till-9-oct-2024-282815/ ]. 
LOCATION:
URL:https://singpromos.com/dining-restaurants-food/cold-storage-singapore-has-3-for-25-haagen-dazs-ice-cream-tubs-promo-till-9-oct-2024-282815/
END:VEVENT
END:VCALENDAR