BEGIN:VCALENDAR
PRODID:-//SINGPromos.com//NONSGML v1.0//EN
VERSION:2.0
CALSCALE:GREGORIAN
METHOD:PUBLISH
X-WR-CALNAME:SINGPromos.com
X-ORIGINAL-URL:https://singpromos.com
X-WR-CALDESC:Events for SINGPromos.com
BEGIN:VEVENT
DTSTART:20241004T000000
DTEND:20241006T235900
DTSTAMP:20260420T035720
CREATED:20241004T194734
LAST-MODIFIED:20241004T195550
UID:282927@https://singpromos.com
SUMMARY:IKEA S'pore selling Cinnamon rolls from just $0.50 each till 6 Oct 2024
DESCRIPTION:Calling all cinnamon bun lovers. For more information, visit [ https://singpromos.com/dining-restaurants-food/ikea-spore-selling-cinnamon-rolls-from-just-0-50-each-till-6-oct-2024-282927/ ]. 
LOCATION:
URL:https://singpromos.com/dining-restaurants-food/ikea-spore-selling-cinnamon-rolls-from-just-0-50-each-till-6-oct-2024-282927/
END:VEVENT
END:VCALENDAR