BEGIN:VCALENDAR
PRODID:-//SINGPromos.com//NONSGML v1.0//EN
VERSION:2.0
CALSCALE:GREGORIAN
METHOD:PUBLISH
X-WR-CALNAME:SINGPromos.com
X-ORIGINAL-URL:https://singpromos.com
X-WR-CALDESC:Events for SINGPromos.com
BEGIN:VEVENT
DTSTART:20241007T000000
DTEND:20241013T235900
DTSTAMP:20260420T032314
CREATED:20241007T173118
LAST-MODIFIED:20241007T205934
UID:283022@https://singpromos.com
SUMMARY:Cathay Pacific launches special fares from S$269 all-in to Bangkok, HK, London and more, book by 13 Oct 2024
DESCRIPTION:Travel deals to top global destinations with fares from S$269 all-in for travel till 30 June 2025. For more information, visit [ https://singpromos.com/airlines-flights/cathay-pacific-launches-special-fares-from-s269-all-in-to-bangkok-hk-london-and-more-book-by-13-oct-2024-283022/ ]. 
LOCATION:
URL:https://singpromos.com/airlines-flights/cathay-pacific-launches-special-fares-from-s269-all-in-to-bangkok-hk-london-and-more-book-by-13-oct-2024-283022/
END:VEVENT
END:VCALENDAR