BEGIN:VCALENDAR
PRODID:-//SINGPromos.com//NONSGML v1.0//EN
VERSION:2.0
CALSCALE:GREGORIAN
METHOD:PUBLISH
X-WR-CALNAME:SINGPromos.com
X-ORIGINAL-URL:https://singpromos.com
X-WR-CALDESC:Events for SINGPromos.com
BEGIN:VEVENT
DTSTART:20241107T000000
DTEND:20241110T235900
DTSTAMP:20260420T035746
CREATED:20241106T142309
LAST-MODIFIED:20241107T174349
UID:283941@https://singpromos.com
SUMMARY:Outdoor Venture Warehouse Sale Offers Up To 70% Off on Outdoor Gear from 7-10 Nov 2024
DESCRIPTION:Enjoy 70% OFF on renowned outdoor brands at Kaki Bukit Warehouse Sale. For more information, visit [ https://singpromos.com/warehouse-sales/outdoor-venture-warehouse-sale-offers-up-to-70-off-on-outdoor-gear-from-7-10-nov-2024-283941/ ]. 
LOCATION:17 Kaki Bukit Crescent, 416248
URL:https://singpromos.com/warehouse-sales/outdoor-venture-warehouse-sale-offers-up-to-70-off-on-outdoor-gear-from-7-10-nov-2024-283941/
END:VEVENT
END:VCALENDAR