BEGIN:VCALENDAR
PRODID:-//SINGPromos.com//NONSGML v1.0//EN
VERSION:2.0
CALSCALE:GREGORIAN
METHOD:PUBLISH
X-WR-CALNAME:SINGPromos.com
X-ORIGINAL-URL:https://singpromos.com
X-WR-CALDESC:Events for SINGPromos.com
BEGIN:VEVENT
DTSTART:20241118T000000
DTEND:20241122T235900
DTSTAMP:20260420T172725
CREATED:20241117T120913
LAST-MODIFIED:20241117T120913
UID:284342@https://singpromos.com
SUMMARY:Dunkin' Singapore Has Buy 4, Get 2 Free Donut Deal from 18 - 22 Nov 2024
DESCRIPTION:Grab this chance to enjoy free donuts and discounted beverages at all Dunkin' outlets across Singapore. For more information, visit [ https://singpromos.com/dining-restaurants-food/dunkin-singapore-has-buy-4-get-2-free-donut-deal-from-18-22-nov-2024-284342/ ]. 
LOCATION:
URL:https://singpromos.com/dining-restaurants-food/dunkin-singapore-has-buy-4-get-2-free-donut-deal-from-18-22-nov-2024-284342/
END:VEVENT
END:VCALENDAR