BEGIN:VCALENDAR
PRODID:-//SINGPromos.com//NONSGML v1.0//EN
VERSION:2.0
CALSCALE:GREGORIAN
METHOD:PUBLISH
X-WR-CALNAME:SINGPromos.com
X-ORIGINAL-URL:https://singpromos.com
X-WR-CALDESC:Events for SINGPromos.com
BEGIN:VEVENT
DTSTART:20241128T000000
DTEND:20241201T235900
DTSTAMP:20260424T032128
CREATED:20241125T143420
LAST-MODIFIED:20241125T201937
UID:284658@https://singpromos.com
SUMMARY:Isetan Singapore 10% Off Black Friday Storewide Sale from 28 Nov - 1 Dec 2024
DESCRIPTION:A thrilling Black Friday shopping spree awaits at Isetan Singapore from 28 Nov to 1 Dec 2024.. For more information, visit [ https://singpromos.com/department-stores/isetan-singapore-10-off-black-friday-storewide-sale-from-28-nov-1-dec-2024-284658/ ]. 
LOCATION:
URL:https://singpromos.com/department-stores/isetan-singapore-10-off-black-friday-storewide-sale-from-28-nov-1-dec-2024-284658/
END:VEVENT
END:VCALENDAR