BEGIN:VCALENDAR
PRODID:-//SINGPromos.com//NONSGML v1.0//EN
VERSION:2.0
CALSCALE:GREGORIAN
METHOD:PUBLISH
X-WR-CALNAME:SINGPromos.com
X-ORIGINAL-URL:https://singpromos.com
X-WR-CALDESC:Events for SINGPromos.com
BEGIN:VEVENT
DTSTART:20241212T000000
DTEND:20241215T235900
DTSTAMP:20260420T172708
CREATED:20241211T203635
LAST-MODIFIED:20241211T204532
UID:285237@https://singpromos.com
SUMMARY:Dunkin' Singapore Offers Sweet Buy 9, Get 3 Free & Buy 5, Get 1 Free Donut Deals This 12-15 Dec
DESCRIPTION:Score sweet deals and free donuts from Dunkin' Singapore this holiday season. For more information, visit [ https://singpromos.com/dining-restaurants-food/dunkin-singapore-offers-sweet-buy-9-get-3-free-buy-5-get-1-free-donut-deals-this-12-15-dec-285237/ ]. 
LOCATION:
URL:https://singpromos.com/dining-restaurants-food/dunkin-singapore-offers-sweet-buy-9-get-3-free-buy-5-get-1-free-donut-deals-this-12-15-dec-285237/
END:VEVENT
END:VCALENDAR