BEGIN:VCALENDAR
PRODID:-//SINGPromos.com//NONSGML v1.0//EN
VERSION:2.0
CALSCALE:GREGORIAN
METHOD:PUBLISH
X-WR-CALNAME:SINGPromos.com
X-ORIGINAL-URL:https://singpromos.com
X-WR-CALDESC:Events for SINGPromos.com
BEGIN:VEVENT
DTSTART:20241213T000000
DTEND:20250102T235900
DTSTAMP:20260419T232117
CREATED:20241213T045029
LAST-MODIFIED:20241213T015737
UID:285271@https://singpromos.com
SUMMARY:GOG.com Winter Sale Now On Till 2 Jan With Over 6,700 Deals
DESCRIPTION:Relive the good old days of carefree holiday gaming. For more information, visit [ https://singpromos.com/video-games/gog-com-winter-sale-now-on-till-2-jan-with-over-6700-deals-285271/ ]. 
LOCATION:
URL:https://singpromos.com/video-games/gog-com-winter-sale-now-on-till-2-jan-with-over-6700-deals-285271/
END:VEVENT
END:VCALENDAR