BEGIN:VCALENDAR
PRODID:-//SINGPromos.com//NONSGML v1.0//EN
VERSION:2.0
CALSCALE:GREGORIAN
METHOD:PUBLISH
X-WR-CALNAME:SINGPromos.com
X-ORIGINAL-URL:https://singpromos.com
X-WR-CALDESC:Events for SINGPromos.com
BEGIN:VEVENT
DTSTART:20241231T000000
DTEND:20241231T235900
DTSTAMP:20260422T082136
CREATED:20241230T184326
LAST-MODIFIED:20241230T201654
UID:285679@https://singpromos.com
SUMMARY:Seventeen 2024 Heartland Countdown Celebrations to be held physically on 31 December 2024
DESCRIPTION:17 heartland countdown celebrations promise to offer vibrant and inclusive programmes that bring joy and celebration to people of all ages. For more information, visit [ https://singpromos.com/happenings/2024-heartland-countdown-celebrations-to-be-held-physically-on-31-december-2024-285679/ ]. 
LOCATION:
URL:https://singpromos.com/happenings/2024-heartland-countdown-celebrations-to-be-held-physically-on-31-december-2024-285679/
END:VEVENT
END:VCALENDAR