BEGIN:VCALENDAR
PRODID:-//SINGPromos.com//NONSGML v1.0//EN
VERSION:2.0
CALSCALE:GREGORIAN
METHOD:PUBLISH
X-WR-CALNAME:SINGPromos.com
X-ORIGINAL-URL:https://singpromos.com
X-WR-CALDESC:Events for SINGPromos.com
BEGIN:VEVENT
DTSTART:20250109T000000
DTEND:20250112T235900
DTSTAMP:20260420T061045
CREATED:20250109T140101
LAST-MODIFIED:20250109T140725
UID:286236@https://singpromos.com
SUMMARY:Giant S'pore CNY Abalone Specials until 12 Jan 2025 - New Moon, Fortune and more
DESCRIPTION:Bring abundance to your reunions. For more information, visit [ https://singpromos.com/dining-restaurants-food/giant-spore-cny-abalone-specials-until-12-jan-2025-new-moon-fortune-and-more-286236/ ]. 
LOCATION:
URL:https://singpromos.com/dining-restaurants-food/giant-spore-cny-abalone-specials-until-12-jan-2025-new-moon-fortune-and-more-286236/
END:VEVENT
END:VCALENDAR