BEGIN:VCALENDAR
PRODID:-//SINGPromos.com//NONSGML v1.0//EN
VERSION:2.0
CALSCALE:GREGORIAN
METHOD:PUBLISH
X-WR-CALNAME:SINGPromos.com
X-ORIGINAL-URL:https://singpromos.com
X-WR-CALDESC:Events for SINGPromos.com
BEGIN:VEVENT
DTSTART:20250101T000000
DTEND:20250331T235900
DTSTAMP:20260422T212626
CREATED:20250101T171700
LAST-MODIFIED:20250405T181554
UID:286439@https://singpromos.com
SUMMARY:DBS/POSB Cardholders Enjoy 18% Savings on Agoda Hotel Bookings
DESCRIPTION:DBS/POSB cardmembers can now enjoy an additional 18% off on Agoda hotel stays worldwide. For more information, visit [ https://singpromos.com/vacations/dbs-posb-cardholders-enjoy-18-savings-on-agoda-hotel-bookings-till-28-feb-2025-286439/ ]. 
LOCATION:
URL:https://singpromos.com/vacations/dbs-posb-cardholders-enjoy-18-savings-on-agoda-hotel-bookings-till-28-feb-2025-286439/
END:VEVENT
END:VCALENDAR