BEGIN:VCALENDAR
PRODID:-//SINGPromos.com//NONSGML v1.0//EN
VERSION:2.0
CALSCALE:GREGORIAN
METHOD:PUBLISH
X-WR-CALNAME:SINGPromos.com
X-ORIGINAL-URL:https://singpromos.com
X-WR-CALDESC:Events for SINGPromos.com
BEGIN:VEVENT
DTSTART:20250116T000000
DTEND:20250117T235900
DTSTAMP:20260424T034552
CREATED:20250116T093322
LAST-MODIFIED:20250118T094943
UID:286459@https://singpromos.com
SUMMARY:Sheng Siong 2-Days Specials Has Ferrero Rocher, Pokka, Cadbury, Thirty Hippo and more until 17 Jan 2025
DESCRIPTION:Discounts on a variety of products. For more information, visit [ https://singpromos.com/dining-restaurants-food/sheng-siong-2-days-specials-has-ferrero-rocher-pokka-cadbury-thirty-hippo-and-more-until-17-jan-2025-286459/ ]. 
LOCATION:
URL:https://singpromos.com/dining-restaurants-food/sheng-siong-2-days-specials-has-ferrero-rocher-pokka-cadbury-thirty-hippo-and-more-until-17-jan-2025-286459/
END:VEVENT
END:VCALENDAR