BEGIN:VCALENDAR
PRODID:-//SINGPromos.com//NONSGML v1.0//EN
VERSION:2.0
CALSCALE:GREGORIAN
METHOD:PUBLISH
X-WR-CALNAME:SINGPromos.com
X-ORIGINAL-URL:https://singpromos.com
X-WR-CALDESC:Events for SINGPromos.com
BEGIN:VEVENT
DTSTART:20120331T000000
DTEND:20120409T235900
DTSTAMP:20260422T204155
CREATED:20120331T130227
LAST-MODIFIED:20120410T100025
UID:28679@https://singpromos.com
SUMMARY:The Cafe Cartel 45% Off Hawaiian Pork Chops @ Seven Locations Islandwide 31 Mar 2012
DESCRIPTION:Feast on The Cafe Cartel's popular Hawaiian Pork Chips with this deal: $12 instead of $21.77 for Hawaiian Pork Chops at The Café Cartel / The Cartel Bistro Islandwide worth $21.77 - that's 45% off the usual price! Learn how to get this deal before it expires soon . For more information, visit [ https://singpromos.com/dining-restaurants-food/the-cafe-cartel-45-off-hawaiian-pork-chops-seven-locations-islandwide-31-mar-2012-28679/ ]. 
LOCATION:
URL:https://singpromos.com/dining-restaurants-food/the-cafe-cartel-45-off-hawaiian-pork-chops-seven-locations-islandwide-31-mar-2012-28679/
END:VEVENT
END:VCALENDAR