BEGIN:VCALENDAR
PRODID:-//SINGPromos.com//NONSGML v1.0//EN
VERSION:2.0
CALSCALE:GREGORIAN
METHOD:PUBLISH
X-WR-CALNAME:SINGPromos.com
X-ORIGINAL-URL:https://singpromos.com
X-WR-CALDESC:Events for SINGPromos.com
BEGIN:VEVENT
DTSTART:20250101T000000
DTEND:20251231T235900
DTSTAMP:20260420T151147
CREATED:20250104T190157
LAST-MODIFIED:20260212T220405
UID:286847@https://singpromos.com
SUMMARY:KLM and Air France Get Up to S$150 off flight bookings with DBS/POSB cards till 31 Dec 2025
DESCRIPTION:Applicable for any flights open for booking. For more information, visit [ https://singpromos.com/airlines-flights/klm-and-air-france-get-up-to-s150-off-flight-bookings-with-dbs-posb-cards-till-31-dec-2025-286847/ ]. 
LOCATION:
URL:https://singpromos.com/airlines-flights/klm-and-air-france-get-up-to-s150-off-flight-bookings-with-dbs-posb-cards-till-31-dec-2025-286847/
END:VEVENT
END:VCALENDAR