BEGIN:VCALENDAR
PRODID:-//SINGPromos.com//NONSGML v1.0//EN
VERSION:2.0
CALSCALE:GREGORIAN
METHOD:PUBLISH
X-WR-CALNAME:SINGPromos.com
X-ORIGINAL-URL:https://singpromos.com
X-WR-CALDESC:Events for SINGPromos.com
BEGIN:VEVENT
DTSTART:20250123T000000
DTEND:20250126T235900
DTSTAMP:20260422T082316
CREATED:20250123T192636
LAST-MODIFIED:20250123T193140
UID:286849@https://singpromos.com
SUMMARY:Watsons Singapore Has 40% OFF Makeup & 1-FOR-1 Facial Masks Until 26 Jan 2025
DESCRIPTION:Score beauty steals with Watsons' exclusive promotions this festive season. For more information, visit [ https://singpromos.com/cosmetics/watsons-singapore-has-40-off-makeup-1-for-1-facial-masks-until-26-jan-2025-286849/ ]. 
LOCATION:
URL:https://singpromos.com/cosmetics/watsons-singapore-has-40-off-makeup-1-for-1-facial-masks-until-26-jan-2025-286849/
END:VEVENT
END:VCALENDAR