BEGIN:VCALENDAR
PRODID:-//SINGPromos.com//NONSGML v1.0//EN
VERSION:2.0
CALSCALE:GREGORIAN
METHOD:PUBLISH
X-WR-CALNAME:SINGPromos.com
X-ORIGINAL-URL:https://singpromos.com
X-WR-CALDESC:Events for SINGPromos.com
BEGIN:VEVENT
DTSTART:20250101T000000
DTEND:20251231T235900
DTSTAMP:20260424T023606
CREATED:20250108T011205
LAST-MODIFIED:20250125T011812
UID:286931@https://singpromos.com
SUMMARY:Expedia offers 8% off hotel stays for UOB cardmembers till 31 Dec 2025
DESCRIPTION:Unlock travel savings with UOB credit and debit cards. For more information, visit [ https://singpromos.com/vacations/expedia-offers-8-off-hotel-stays-for-uob-cardmembers-till-31-dec-2025-286931/ ]. 
LOCATION:
URL:https://singpromos.com/vacations/expedia-offers-8-off-hotel-stays-for-uob-cardmembers-till-31-dec-2025-286931/
END:VEVENT
END:VCALENDAR