BEGIN:VCALENDAR
PRODID:-//SINGPromos.com//NONSGML v1.0//EN
VERSION:2.0
CALSCALE:GREGORIAN
METHOD:PUBLISH
X-WR-CALNAME:SINGPromos.com
X-ORIGINAL-URL:https://singpromos.com
X-WR-CALDESC:Events for SINGPromos.com
BEGIN:VEVENT
DTSTART:20250206T000000
DTEND:20250207T235900
DTSTAMP:20260423T232821
CREATED:20250206T133157
LAST-MODIFIED:20250208T110902
UID:287158@https://singpromos.com
SUMMARY:Sheng Siong 2-Days Specials Has F&N, Yeo's, OREO and more until 7 Feb 2025
DESCRIPTION:Drinks, snacks, canned seafood and household essentials. For more information, visit [ https://singpromos.com/dining-restaurants-food/sheng-siong-2-days-specials-has-fn-yeos-oreo-and-more-until-7-feb-2025-287158/ ]. 
LOCATION:
URL:https://singpromos.com/dining-restaurants-food/sheng-siong-2-days-specials-has-fn-yeos-oreo-and-more-until-7-feb-2025-287158/
END:VEVENT
END:VCALENDAR