BEGIN:VCALENDAR
PRODID:-//SINGPromos.com//NONSGML v1.0//EN
VERSION:2.0
CALSCALE:GREGORIAN
METHOD:PUBLISH
X-WR-CALNAME:SINGPromos.com
X-ORIGINAL-URL:https://singpromos.com
X-WR-CALDESC:Events for SINGPromos.com
BEGIN:VEVENT
DTSTART:20250227T000000
DTEND:20250303T235900
DTSTAMP:20260422T060658
CREATED:20250226T155432
LAST-MODIFIED:20250304T154959
UID:287663@https://singpromos.com
SUMMARY:Burger & Lobster Singapore Extends 1-for-1 Lobster Roll Promotion from 27 Feb - 3 Mar 2025
DESCRIPTION:Exclusive dine-in offer at Jewel Changi Airport from 27 February to 3 March 2025. For more information, visit [ https://singpromos.com/dining-restaurants-food/burger-lobster-singapore-extends-1-for-1-lobster-roll-promotion-from-27-feb-3-mar-2025-287663/ ]. 
LOCATION:819666
URL:https://singpromos.com/dining-restaurants-food/burger-lobster-singapore-extends-1-for-1-lobster-roll-promotion-from-27-feb-3-mar-2025-287663/
END:VEVENT
END:VCALENDAR