BEGIN:VCALENDAR
PRODID:-//SINGPromos.com//NONSGML v1.0//EN
VERSION:2.0
CALSCALE:GREGORIAN
METHOD:PUBLISH
X-WR-CALNAME:SINGPromos.com
X-ORIGINAL-URL:https://singpromos.com
X-WR-CALDESC:Events for SINGPromos.com
BEGIN:VEVENT
DTSTART:20250227T000000
DTEND:20250320T235900
DTSTAMP:20260422T060734
CREATED:20250228T034828
LAST-MODIFIED:20250227T185618
UID:287693@https://singpromos.com
SUMMARY:Get 20% Discount on Parallels Desktop Products Until 20 March 2025
DESCRIPTION:Enhance your Mac experience with Parallels' latest AI-powered tools and enjoy a 20% discount.. For more information, visit [ https://singpromos.com/computers-pc/get-20-discount-on-parallels-desktop-products-until-20-march-2025-287693/ ]. 
LOCATION:
URL:https://singpromos.com/computers-pc/get-20-discount-on-parallels-desktop-products-until-20-march-2025-287693/
END:VEVENT
END:VCALENDAR