BEGIN:VCALENDAR
PRODID:-//SINGPromos.com//NONSGML v1.0//EN
VERSION:2.0
CALSCALE:GREGORIAN
METHOD:PUBLISH
X-WR-CALNAME:SINGPromos.com
X-ORIGINAL-URL:https://singpromos.com
X-WR-CALDESC:Events for SINGPromos.com
BEGIN:VEVENT
DTSTART:20250315T000000
DTEND:20250331T235900
DTSTAMP:20260422T025524
CREATED:20250304T034146
LAST-MODIFIED:20250309T034214
UID:287838@https://singpromos.com
SUMMARY:Amazon SG offering World Mastercard Holders S$5 Discount with $100 spend from 15 - 31 Mar 2025
DESCRIPTION:Get S$5 off your purchase at checkout.. For more information, visit [ https://singpromos.com/department-stores/amazon-sg-offering-world-mastercard-holders-s5-discount-with-100-spend-from-15-31-mar-2025-287838/ ]. 
LOCATION:
URL:https://singpromos.com/department-stores/amazon-sg-offering-world-mastercard-holders-s5-discount-with-100-spend-from-15-31-mar-2025-287838/
END:VEVENT
END:VCALENDAR