BEGIN:VCALENDAR
PRODID:-//SINGPromos.com//NONSGML v1.0//EN
VERSION:2.0
CALSCALE:GREGORIAN
METHOD:PUBLISH
X-WR-CALNAME:SINGPromos.com
X-ORIGINAL-URL:https://singpromos.com
X-WR-CALDESC:Events for SINGPromos.com
BEGIN:VEVENT
DTSTART:20250307T000000
DTEND:20250321T235900
DTSTAMP:20260420T172805
CREATED:20250307T172704
LAST-MODIFIED:20250315T161737
UID:287985@https://singpromos.com
SUMMARY:Dunkin' Singapore Has Buy 9, Get 3 Free & Buy 5, Get 1 Free Donut Deals Until 21 March 2025
DESCRIPTION:Indulge in exclusive Dunkin' promotions with free donuts and refreshing drinks this March!. For more information, visit [ https://singpromos.com/dining-restaurants-food/dunkin-singapore-has-buy-9-get-3-free-buy-5-get-1-free-donut-deals-until-21-march-2025-287985/ ]. 
LOCATION:
URL:https://singpromos.com/dining-restaurants-food/dunkin-singapore-has-buy-9-get-3-free-buy-5-get-1-free-donut-deals-until-21-march-2025-287985/
END:VEVENT
END:VCALENDAR