BEGIN:VCALENDAR
PRODID:-//SINGPromos.com//NONSGML v1.0//EN
VERSION:2.0
CALSCALE:GREGORIAN
METHOD:PUBLISH
X-WR-CALNAME:SINGPromos.com
X-ORIGINAL-URL:https://singpromos.com
X-WR-CALDESC:Events for SINGPromos.com
BEGIN:VEVENT
DTSTART:20250315T000000
DTEND:20250323T235900
DTSTAMP:20260420T172725
CREATED:20250315T161437
LAST-MODIFIED:20250315T162142
UID:288256@https://singpromos.com
SUMMARY:Dunkin' Singapore Offers Buy 5, Get 2 Free Donuts & $2 Drinks Till 23 March 2025
DESCRIPTION:Enjoy sweet deals on donuts and drinks at Dunkin' Singapore this school holiday season. For more information, visit [ https://singpromos.com/dining-restaurants-food/dunkin-singapore-offers-buy-5-get-2-free-donuts-2-drinks-till-23-march-2025-288256/ ]. 
LOCATION:
URL:https://singpromos.com/dining-restaurants-food/dunkin-singapore-offers-buy-5-get-2-free-donuts-2-drinks-till-23-march-2025-288256/
END:VEVENT
END:VCALENDAR