BEGIN:VCALENDAR
PRODID:-//SINGPromos.com//NONSGML v1.0//EN
VERSION:2.0
CALSCALE:GREGORIAN
METHOD:PUBLISH
X-WR-CALNAME:SINGPromos.com
X-ORIGINAL-URL:https://singpromos.com
X-WR-CALDESC:Events for SINGPromos.com
BEGIN:VEVENT
DTSTART:20250403T000000
DTEND:20250625T235900
DTSTAMP:20260422T063024
CREATED:20250403T073836
LAST-MODIFIED:20250331T153846
UID:288578@https://singpromos.com
SUMMARY:1st in Singapore: IH Visions & Disney Pooh Misty Mornings Collection! Available until 25 Jun 2025
DESCRIPTION:Discover induction-ready VISIONS cookware & Disney Pooh collection at FairPrice!. For more information, visit [ https://singpromos.com/kitchenware-cookware/1st-in-singapore-ih-visions-disney-pooh-misty-mornings-collection-available-until-25-jun-2025-288578/ ]. 
LOCATION:
URL:https://singpromos.com/kitchenware-cookware/1st-in-singapore-ih-visions-disney-pooh-misty-mornings-collection-available-until-25-jun-2025-288578/
END:VEVENT
END:VCALENDAR